BEGIN:VCALENDAR
VERSION:2.0
PRODID:-//ChamberMaster//Event Calendar 2.0//EN
METHOD:PUBLISH
X-PUBLISHED-TTL:P3D
REFRESH-INTERVAL:P3D
CALSCALE:GREGORIAN
BEGIN:VEVENT
DTSTART:20220723T200000Z
DTEND:20220723T213000Z
X-MICROSOFT-CDO-ALLDAYEVENT:FALSE
SUMMARY:“Summer Pruning” class
DESCRIPTION:Meerkerk's 2022 Master Class Series\nA "Summer Pruning" class from 1-2:30 p.m.\, taught by Martha and Ed Hollis. \n\nEach class will be held at the Meerkerk House\, 3531 Meerkerk Lane in Greenbank. Classes are $10 each with the cost also covering admission into the gardens. Sign up by sending an email to classes@meerkerkgardens.org. Attendance is limited to the first 20 people who reserve a seat.
X-ALT-DESC;FMTTYPE=text/html:<span style="font-family:verdana\,sans-serif\;"><span style="font-size:10.0pt\;">Meerkerk&#39\;s 2022 Master Class Series</span></span>\n<p><span style="font-size:10.0pt\;font-family:&quot\;Verdana&quot\;\,sans-serif">A &ldquo\;Summer Pruning&rdquo\; class from 1-2:30 p.m.\, taught by Martha and Ed Hollis.&nbsp\;</span></p>\n\n<p><span style="font-size:10.0pt\;font-family:&quot\;Verdana&quot\;\,sans-serif">Each class will be held at the Meerkerk House\, 3531 Meerkerk Lane in Greenbank. Classes are $10 each with the cost also covering admission into the gardens. Sign up by sending an email to <a href="mailto:classes@meerkerkgardens.org">classes@meerkerkgardens.org</a>. Attendance is limited to the first 20 people who reserve a seat.<o:p></o:p></span></p>\n\n<p><span style="font-size:10.0pt\;font-family:&quot\;Verdana&quot\;\,sans-serif"><o:p></o:p></span></p>\n
LOCATION:Meerkerk House\, 3531 Meerkerk Lane in Greenbank
UID:e.1430.13365
SEQUENCE:3
DTSTAMP:20260422T013207Z
URL:http://oakharborchamber.chambermaster.com/events/details/summer-pruning-class-13365
END:VEVENT

END:VCALENDAR
