BEGIN:VCALENDAR
VERSION:2.0
PRODID:-//ChamberMaster//Event Calendar 2.0//EN
METHOD:PUBLISH
X-PUBLISHED-TTL:P3D
REFRESH-INTERVAL:P3D
CALSCALE:GREGORIAN
BEGIN:VEVENT
DTSTART:20130622T150000Z
DTEND:20130622T200000Z
X-MICROSOFT-CDO-ALLDAYEVENT:FALSE
SUMMARY:Deception Pass Challenge
DESCRIPTION:WHAT: Annual Deception Pass Challenge WHEN: June 22\, 2013 starting at 8:00am WHY: Support education and resource protection in Deception Pass State Park. All proceeds stay within the Park. Race Info: (all stage lengths approximate) Swim: 1/2 mile in Cranberry Lake. Note: water temperature is typically between 55 and 60 degrees at this time of year so wetsuits are recommended.Bike: 13 miles with a mixture of road and trail. Mountain or cross bikes are recommended.Run: 4 miles from West Beach to top of Goose Rock. Elevation rise is 484 feet and back to sea level. Miscellaneous Information: Cost is $50 for triathlete/individual and $100 for teamRegistration after 10th of June\, add $10 for individual and  $30 to teamDry weave shirts feature the Challenge logoPrizes to top finishers\, youngest and oldest participantsThe park requires a Discover Pass to parkEvent occurs rain or shine
X-ALT-DESC;FMTTYPE=text/html:WHAT: Annual Deception Pass Challenge WHEN: June 22\, 2013 starting at 8:00am WHY: Support education and resource protection in Deception Pass State Park. All proceeds stay within the Park. Race Info: (all stage lengths approximate) Swim: 1/2 mile in Cranberry Lake. Note: water temperature is typically between 55 and 60 degrees at this time of year so wetsuits are recommended.Bike: 13 miles with a mixture of road and trail. Mountain or cross bikes are recommended.Run: 4 miles from West Beach to top of Goose Rock. Elevation rise is 484 feet and back to sea level. Miscellaneous Information: Cost is $50 for triathlete/individual and $100 for teamRegistration after 10th of June\, add $10 for individual and &nbsp\;$30 to teamDry weave shirts feature the Challenge logoPrizes to top finishers\, youngest and oldest participantsThe park requires a Discover Pass to parkEvent occurs rain or shine
LOCATION:Deception Pass State Park
UID:e.1430.325
SEQUENCE:3
DTSTAMP:20260421T163457Z
URL:http://oakharborchamber.chambermaster.com/events/details/deception-pass-challenge-06-22-2013-325
END:VEVENT

END:VCALENDAR
